BEGIN:VCALENDAR
VERSION:2.0
PRODID:-//chikkutakku.com//RDFCal 1.0//EN
X-WR-CALDESC:GoogleカレンダーやiCalendar形式情報を共有シェ
 アしましょう。近所のイベントから全国のイベントま
 で今日のイベント検索やスケジュールを決めるならち
 っくたっく
X-WR-CALNAME:ちっくたっく
X-WR-TIMEZONE:UTC
BEGIN:VEVENT
SUMMARY:極上騎士団長の溺愛調教〜その巨大すぎる愛、す
 べて受け入れてみせます！〜（2）
DTSTART;VALUE=DATE:20260521
DTEND;VALUE=DATE:20260522
UID:240819870134
DESCRIPTION:2026-05-22極上騎士団長の溺愛調教〜その巨大す
 ぎる愛、すべて受け入れてみせます！〜（2）クロサキ
 ゼロ一迅社
LOCATION:
END:VEVENT
END:VCALENDAR
