BEGIN:VCALENDAR
VERSION:2.0
PRODID:-//chikkutakku.com//RDFCal 1.0//EN
X-WR-CALDESC:GoogleカレンダーやiCalendar形式情報を共有シェ
 アしましょう。近所のイベントから全国のイベントま
 で今日のイベント検索やスケジュールを決めるならち
 っくたっく
X-WR-CALNAME:ちっくたっく
X-WR-TIMEZONE:UTC
BEGIN:VEVENT
SUMMARY:CHESS: Somerset vs HH High School- Away
DTSTART;VALUE=DATE-TIME:20260505T130000Z
DTEND;VALUE=DATE-TIME:20260505T150000Z
UID:240987623815
DESCRIPTION:CHESS: Somerset vs HH High School- Away
LOCATION:Hottentots-Holland High School\, Island St\, Van Der Stel\, Cape 
 Town\, 7130\, South Africa
END:VEVENT
END:VCALENDAR
