BEGIN:VCALENDAR
VERSION:2.0
PRODID:-//chikkutakku.com//RDFCal 1.0//EN
X-WR-CALDESC:GoogleカレンダーやiCalendar形式情報を共有シェ
 アしましょう。近所のイベントから全国のイベントま
 で今日のイベント検索やスケジュールを決めるならち
 っくたっく
X-WR-CALNAME:ちっくたっく
X-WR-TIMEZONE:UTC
BEGIN:VEVENT
SUMMARY:(รองไพฑูรย์)ประธานเปิดก
 ารอบรมเชิงปฏิบัติการเคล็
 ดรับการทำอาหารพื้นบ้านอี
 สานดั้งเดิม เพิ่มเติมเมนู
 ชูสุขภาพ(work shop) ณ ห้องประชุมอ
 าคารอเนกประสงค์ สสจ.
DTSTART;VALUE=DATE-TIME:20260422T013000Z
DTEND;VALUE=DATE-TIME:20260422T093000Z
UID:241012900616
DESCRIPTION:(รองไพฑูรย์)ประธานเปิด
 การอบรมเชิงปฏิบัติการเคล
 ็ดรับการทำอาหารพื้นบ้านอ
 ีสานดั้งเดิม เพิ่มเติมเมน
 ูชูสุขภาพ(work shop) ณ ห้องประชุม
 อาคารอเนกประสงค์ สสจ.
LOCATION:
END:VEVENT
END:VCALENDAR
