BEGIN:VCALENDAR
VERSION:2.0
PRODID:-//chikkutakku.com//RDFCal 1.0//EN
X-WR-CALDESC:GoogleカレンダーやiCalendar形式情報を共有シェ
 アしましょう。近所のイベントから全国のイベントま
 で今日のイベント検索やスケジュールを決めるならち
 っくたっく
X-WR-CALNAME:ちっくたっく
X-WR-TIMEZONE:UTC
BEGIN:VEVENT
SUMMARY:【学園型コミュニティ】仮想学園ビギナーズリン
 ク4期生徒希望者向け説明会
DTSTART;VALUE=DATE-TIME:20260421T130000Z
DTEND;VALUE=DATE-TIME:20260421T140000Z
UID:241779858361
DESCRIPTION:【イベント主催者】\n　たるなん\n【イベント
 内容】\n　学園型コミュニティ「仮想学園ビギナーズリ
 ンク」4期開校にあたり生徒募集を行います。\nイベン
 ト内容の説明と開催期間、応募方法などの説明を行い
 ます。\n【イベントジャンル】\n　ロールプレイ\, 初心
 者向けイベント\n【参加条件（モデル、人数制限など）
 】\n　仮想学園ビギナーズリンク（学園型コミュニティ
 ）に興味のある方\n【参加方法】\n　21:45になったら「
 たるなん」へJoin\n【備考】\n　21:45　説明会用インスタ
 ンス開場\n22:00　説明会開始\n22:30　説明会終了\n\n質疑
 応答などの時間もございます。お気軽にご参加くださ
 い。\n\nX：　https://twitter.com/VRC_BeConnect\n\nJoin先\nたるな
 ん：　https://vrchat.com/home/user/usr_e0d55ddd-ffc9-47b4-b557-9b79e6a6
 13dc\n\nVRCGroup\nビギナーズコネクト！：　https://vrchat.com/h
 ome/group/grp_4a17908b-c431-4ddb-8c65-f5fd82461678\n\nDiscord：　https:/
 /discord.gg/cxPDQaXTXB
LOCATION:
END:VEVENT
END:VCALENDAR
