BEGIN:VCALENDAR
VERSION:2.0
PRODID:-//chikkutakku.com//RDFCal 1.0//EN
X-WR-CALDESC:GoogleカレンダーやiCalendar形式情報を共有シェ
 アしましょう。近所のイベントから全国のイベントま
 で今日のイベント検索やスケジュールを決めるならち
 っくたっく
X-WR-CALNAME:ちっくたっく
X-WR-TIMEZONE:UTC
BEGIN:VEVENT
SUMMARY:U19A\, U16A and U14A Hockey Teams at the Hibbert Hockey Tournament
DTSTART;VALUE=DATE:20260422
DTEND;VALUE=DATE:20260427
UID:243606925692
DESCRIPTION:U19A\, U16A and U14A Hockey Teams at the Hibbert Hockey Tourna
 ment
LOCATION:Grey High School\, College Dr\, Mill Park\, Gqeberha\, 6001\, Sou
 th Africa
END:VEVENT
END:VCALENDAR
