BEGIN:VCALENDAR
VERSION:2.0
PRODID:-//chikkutakku.com//RDFCal 1.0//EN
X-WR-CALDESC:GoogleカレンダーやiCalendar形式情報を共有シェ
 アしましょう。近所のイベントから全国のイベントま
 で今日のイベント検索やスケジュールを決めるならち
 っくたっく
X-WR-CALNAME:ちっくたっく
X-WR-TIMEZONE:UTC
BEGIN:VEVENT
SUMMARY:Cafe LUMINOUS
DTSTART;VALUE=DATE-TIME:20260421T140000Z
DTEND;VALUE=DATE-TIME:20260421T145900Z
UID:243792742411
DESCRIPTION:【イベント主催者】\n　nana778\n【イベント内容
 】\n　スタッフは私含めて\n2名で運営しております。\n
 作業、雑談など\nご自由にお使いくださいませ！！\n(荒
 らし行為はお控えください)\n【イベントジャンル】\n　
 その他交流会\, VR飲み会\, 店舗系イベント\, 初心者向け
 イベント\, 定期イベント\n【参加条件（モデル、人数制
 限など）】\n　グループのルールを見て\nみんなと仲良
 くする事\n【参加方法】\n　Cafe LUMINOUSにグループ参加申
 請\nメンバーになりましたらご理解頂けます\n【備考】\
 n　皆様のご来店心よりお待ちしております(*^^*)!!
LOCATION:
END:VEVENT
END:VCALENDAR
