BEGIN:VCALENDAR
VERSION:2.0
PRODID:-//chikkutakku.com//RDFCal 1.0//EN
X-WR-CALDESC:GoogleカレンダーやiCalendar形式情報を共有シェ
 アしましょう。近所のイベントから全国のイベントま
 で今日のイベント検索やスケジュールを決めるならち
 っくたっく
X-WR-CALNAME:ちっくたっく
X-WR-TIMEZONE:UTC
BEGIN:VEVENT
SUMMARY:三つ子のパパは執愛滾る天才パイロット〜再会し
 た強がりママを一途に囲い満たす〜
DTSTART;VALUE=DATE:20260508
DTEND;VALUE=DATE:20260509
UID:243946329734
DESCRIPTION:2026-05-09三つ子のパパは執愛滾る天才パイロッ
 ト〜再会した強がりママを一途に囲い満たす〜田崎く
 るみ/アヒル森下スターツ出版
LOCATION:
END:VEVENT
END:VCALENDAR
