BEGIN:VCALENDAR
VERSION:2.0
PRODID:-//chikkutakku.com//RDFCal 1.0//EN
X-WR-CALDESC:GoogleカレンダーやiCalendar形式情報を共有シェ
 アしましょう。近所のイベントから全国のイベントま
 で今日のイベント検索やスケジュールを決めるならち
 っくたっく
X-WR-CALNAME:ちっくたっく
X-WR-TIMEZONE:UTC
BEGIN:VEVENT
SUMMARY:大好きだった元彼と再会しましたが、私はもう結
 婚しています。
DTSTART;VALUE=DATE:20260508
DTEND;VALUE=DATE:20260509
UID:244510685891
DESCRIPTION:2026-05-09大好きだった元彼と再会しましたが、
 私はもう結婚しています。泉野あおい/内河スターツ出
 版
LOCATION:
END:VEVENT
END:VCALENDAR
