BEGIN:VCALENDAR
VERSION:2.0
PRODID:-//chikkutakku.com//RDFCal 1.0//EN
X-WR-CALDESC:GoogleカレンダーやiCalendar形式情報を共有シェ
 アしましょう。近所のイベントから全国のイベントま
 で今日のイベント検索やスケジュールを決めるならち
 っくたっく
X-WR-CALNAME:ちっくたっく
X-WR-TIMEZONE:UTC
BEGIN:VEVENT
SUMMARY:【楽天ブックス限定全巻購入特典+楽天ブックス
 限定先着特典+他】『SPY×FAMILY』Season 3 Vol.2 完全初回数
 量限定版(描き下ろし収納BOX+描き下ろしアクリルキーホ
 ルダー(2個セット)+場面写真ブロマイド10枚+他)
DTSTART;VALUE=DATE:20260519
DTEND;VALUE=DATE:20260520
UID:244545487751
DESCRIPTION:2026-05-20【楽天ブックス限定全巻購入特典+楽天
 ブックス限定先着特典+他】『SPY×FAMILY』Season 3 Vol.2 完
 全初回数量限定版(描き下ろし収納BOX+描き下ろしアクリ
 ルキーホルダー(2個セット)+場面写真ブロマイド10枚+他)
 遠藤達哉/江口拓也東宝(株)
LOCATION:
END:VEVENT
END:VCALENDAR
