BEGIN:VCALENDAR
VERSION:2.0
PRODID:-//chikkutakku.com//RDFCal 1.0//EN
X-WR-CALDESC:GoogleカレンダーやiCalendar形式情報を共有シェ
 アしましょう。近所のイベントから全国のイベントま
 で今日のイベント検索やスケジュールを決めるならち
 っくたっく
X-WR-CALNAME:ちっくたっく
X-WR-TIMEZONE:UTC
BEGIN:VEVENT
SUMMARY:【注】名探偵コナン #965 大怪獣ゴメラvs仮面ヤイ
 バー(序) / #966 大怪獣ゴメラvs仮面ヤイバー(破) / #967 大
 怪獣ゴメラvs仮面ヤイバー(急) / #968 大怪獣ゴメラvs仮面
 ヤイバー(決) / #969 加賀令嬢ミステリーツアー(前編) / #9
 70 加賀令嬢ミステリーツアー(後編)
DTSTART;VALUE=DATE-TIME:20260422T143000Z
DTEND;VALUE=DATE-TIME:20260422T173000Z
UID:245076033028
DESCRIPTION: / #965 大怪獣ゴメラvs仮面ヤイバー(序) / #966 大
 怪獣ゴメラvs仮面ヤイバー(破) / #967 大怪獣ゴメラvs仮面
 ヤイバー(急) / #968 大怪獣ゴメラvs仮面ヤイバー(決) / #96
 9 加賀令嬢ミステリーツアー(前編) / #970 加賀令嬢ミス
 テリーツアー(後編) / ([[名探偵コナンチャンネル https://
 abema.tv/timetable/channels/conan]]) https://abema.tv/channels/conan/slots
 /EvABQrhywkbobM リピート放送は 4/23(木) 7:30～ https://abema.tv/c
 hannels/conan/slots/Ah77kpJM14gtA3 、4/23(木) 15:30～ https://abema.tv/
 channels/conan/slots/Ah77mQhDX6wH6X (無料TS1週間) https://prtimes.jp/m
 ain/html/rd/p/000002640.000064643.html
LOCATION:ABEMA特設その他
END:VEVENT
END:VCALENDAR
