BEGIN:VCALENDAR
VERSION:2.0
PRODID:-//chikkutakku.com//RDFCal 1.0//EN
X-WR-CALDESC:GoogleカレンダーやiCalendar形式情報を共有シェ
 アしましょう。近所のイベントから全国のイベントま
 で今日のイベント検索やスケジュールを決めるならち
 っくたっく
X-WR-CALNAME:ちっくたっく
X-WR-TIMEZONE:UTC
BEGIN:VEVENT
SUMMARY:オフィスの魔力 人・金・夢を引き寄せる「儲か
 る会社」の作り方
DTSTART;VALUE=DATE:20260427
DTEND;VALUE=DATE:20260428
UID:245086600761
DESCRIPTION:2026-04-28オフィスの魔力 人・金・夢を引き寄せ
 る「儲かる会社」の作り方近藤 悦康幻冬舎
LOCATION:
END:VEVENT
END:VCALENDAR
