BEGIN:VCALENDAR
VERSION:2.0
PRODID:-//chikkutakku.com//RDFCal 1.0//EN
X-WR-CALDESC:GoogleカレンダーやiCalendar形式情報を共有シェ
 アしましょう。近所のイベントから全国のイベントま
 で今日のイベント検索やスケジュールを決めるならち
 っくたっく
X-WR-CALNAME:ちっくたっく
X-WR-TIMEZONE:UTC
BEGIN:VEVENT
SUMMARY:キャストが歩く喫茶店「あゆみ」
DTSTART;VALUE=DATE-TIME:20260422T143000Z
DTEND;VALUE=DATE-TIME:20260422T153000Z
UID:245117987706
DESCRIPTION:【イベント主催者】\n　Ruhunu Liddell\n【イベン
 ト内容】\n　キャストが＂歩いて＂接客するカフェイベ
 ントです。\nバーチャルという仮想の世界で本当にキャ
 ストが目の前にいるように感じる……そんな他では味
 わえない特別なリアリティを体験いただけます。\n木漏
 れ日の差し込む落ち着いた雰囲気の店内で、キャスト
 の優雅な動きを眺めつつゆったりとお過ごしください
 。\n【イベントジャンル】\n　店舗系イベント\n【参加
 条件（モデル、人数制限など）】\n　負荷の大きいアバ
 ターはご遠慮ください（ダウンロードサイズ50MB以下目
 安）\nアバターサイズは0.8〜1.4mを推奨しております。\n
 公序良俗に反する行為についてはご退店いただく場合
 がございます。\n詳しくは本イベントグループのルール
 をご確認ください。\n【参加方法】\n　グループ+での開
 催となります。以下のグループへの参加をお願いしま
 す。\nhttps://vrc.group/AYUMIC.0223\n【備考】\n　無限歩行って
 何？という方も気にせずご参加ください！むしろ是非
 来て無限歩行を見に来てくださいね！！\n\nXアカウント
 ：https://x.com/cafeayumi_vrc\nハッシュタグ：#VRC_喫茶あゆみ
LOCATION:
END:VEVENT
END:VCALENDAR
