BEGIN:VCALENDAR
VERSION:2.0
PRODID:-//chikkutakku.com//RDFCal 1.0//EN
X-WR-CALDESC:GoogleカレンダーやiCalendar形式情報を共有シェ
 アしましょう。近所のイベントから全国のイベントま
 で今日のイベント検索やスケジュールを決めるならち
 っくたっく
X-WR-CALNAME:ちっくたっく
X-WR-TIMEZONE:UTC
BEGIN:VEVENT
SUMMARY:茶見世　まいかい花　薔薇生誕祭
DTSTART;VALUE=DATE-TIME:20260507T033000Z
DTEND;VALUE=DATE-TIME:20260507T103000Z
UID:245401438038
DESCRIPTION:常連の皆様、お待たせしました。「茶見世　
 まいかい花」をスタートします。ロザリア行けなかっ
 たよー、って人も是非一服しにいらしてくださいね。
LOCATION:
END:VEVENT
END:VCALENDAR
