BEGIN:VCALENDAR
VERSION:2.0
PRODID:-//chikkutakku.com//RDFCal 1.0//EN
X-WR-CALDESC:GoogleカレンダーやiCalendar形式情報を共有シェ
 アしましょう。近所のイベントから全国のイベントま
 で今日のイベント検索やスケジュールを決めるならち
 っくたっく
X-WR-CALNAME:ちっくたっく
X-WR-TIMEZONE:UTC
BEGIN:VEVENT
SUMMARY:霧尾ファンクラブ #4 「大切な時間」
DTSTART;VALUE=DATE-TIME:20260424T133000Z
DTEND;VALUE=DATE-TIME:20260424T140000Z
UID:245816661056
DESCRIPTION:4 / 大切な時間 / 
LOCATION:AT-X
END:VEVENT
END:VCALENDAR
