BEGIN:VCALENDAR
VERSION:2.0
PRODID:-//chikkutakku.com//RDFCal 1.0//EN
X-WR-CALDESC:GoogleカレンダーやiCalendar形式情報を共有シェ
 アしましょう。近所のイベントから全国のイベントま
 で今日のイベント検索やスケジュールを決めるならち
 っくたっく
X-WR-CALNAME:ちっくたっく
X-WR-TIMEZONE:UTC
BEGIN:VEVENT
SUMMARY:(นพ.สสจ/รอง นพ.สสจ)ประชุมต
 ิดตามสถานการณ์ด้านการแพท
 ย์และสาธารณสุข กรณี สถานกา
 รณ์การสู้รบในภูมิภาคตะวั
 นออกกลาง กระทรวงสาธารณสุข 
 ผ่านระบบออนไลน์ ณ ห้องประช
 ุม EOC สสจ.ศก.
DTSTART;VALUE=DATE-TIME:20260421T060000Z
DTEND;VALUE=DATE-TIME:20260421T090000Z
UID:246107913220
DESCRIPTION:(นพ.สสจ/รอง นพ.สสจ)ประชุ
 มติดตามสถานการณ์ด้านการแ
 พทย์และสาธารณสุข กรณี สถาน
 การณ์การสู้รบในภูมิภาคตะ
 วันออกกลาง กระทรวงสาธารณส
 ุข ผ่านระบบออนไลน์ ณ ห้องป
 ระชุม EOC สสจ.ศก.
LOCATION:
END:VEVENT
END:VCALENDAR
