BEGIN:VCALENDAR
VERSION:2.0
PRODID:-//chikkutakku.com//RDFCal 1.0//EN
X-WR-CALDESC:GoogleカレンダーやiCalendar形式情報を共有シェ
 アしましょう。近所のイベントから全国のイベントま
 で今日のイベント検索やスケジュールを決めるならち
 っくたっく
X-WR-CALNAME:ちっくたっく
X-WR-TIMEZONE:UTC
BEGIN:VEVENT
SUMMARY:無言癒し撫で集会
DTSTART;VALUE=DATE-TIME:20260422T140000Z
DTEND;VALUE=DATE-TIME:20260422T145900Z
UID:247083777960
DESCRIPTION:【イベント主催者】\n　kikupoti\n【イベント内
 容】\n　小規模な無言の撫で集会となります。\n鏡撫で
 中心で集まってまったりしましょう。\n集会とあります
 が、撫でがメインとなりお話はおまけ程度です。\n【イ
 ベントジャンル】\n　その他交流会\, 定期イベント\n【
 参加条件（モデル、人数制限など）】\n　人型アバター
 であること\nVRCの撫で文化に理解があること\nPCVRである
 こと\n【参加方法】\n　グループインスタンスにjoin (http
 s://vrc.group/MUGON.5167)\n【備考】\n　お時間30分たちました
 ら、お相手交代のアナウンスをさせて頂きます。引き
 続き同じ相手をどうしてもという方以外は一度下がっ
 て頂き、相手の交代をお願いします(Join順に相手を選ん
 で頂きます)\nネタアバター・版権アバターでのご参加
 はご遠慮ください。\nVC×\nポータルを出す行為は禁止\n
 通路での長めのお話はご遠慮ください\n入退出自由\n撮
 影自由\n撫で側、撫でられ側どちらにもなる為、PCVRの
 みとなります\n24時にインスタンス閉じますので、その
 後、VC付ける以外の会話、ポータル出す等はご自由に。
LOCATION:
END:VEVENT
END:VCALENDAR
