BEGIN:VCALENDAR
VERSION:2.0
PRODID:-//chikkutakku.com//RDFCal 1.0//EN
X-WR-CALDESC:GoogleカレンダーやiCalendar形式情報を共有シェ
 アしましょう。近所のイベントから全国のイベントま
 で今日のイベント検索やスケジュールを決めるならち
 っくたっく
X-WR-CALNAME:ちっくたっく
X-WR-TIMEZONE:UTC
BEGIN:VEVENT
SUMMARY:【注】劇場版 響け！ユーフォニアム～誓いのフ
 ィナーレ～ 
DTSTART;VALUE=DATE-TIME:20260422T105900Z
DTEND;VALUE=DATE-TIME:20260422T123900Z
UID:247843800184
DESCRIPTION: /  / https://www.youtube.com/watch?v=l83K-M-7Ut0 (プレミ
 ア公開) アーカイブ配信：4月23日(木)12:00まで https://anime
 -eupho.com/news/?id=679
LOCATION:YouTube
END:VEVENT
END:VCALENDAR
