BEGIN:VCALENDAR
VERSION:2.0
PRODID:-//chikkutakku.com//RDFCal 1.0//EN
X-WR-CALDESC:GoogleカレンダーやiCalendar形式情報を共有シェ
 アしましょう。近所のイベントから全国のイベントま
 で今日のイベント検索やスケジュールを決めるならち
 っくたっく
X-WR-CALNAME:ちっくたっく
X-WR-TIMEZONE:UTC
BEGIN:VEVENT
SUMMARY:定年後、上機嫌を愉しむ
DTSTART;VALUE=DATE:20260519
DTEND;VALUE=DATE:20260520
UID:248006871031
DESCRIPTION:2026-05-20定年後、上機嫌を愉しむ齋藤 孝ポプラ
 社
LOCATION:
END:VEVENT
END:VCALENDAR
