BEGIN:VCALENDAR
VERSION:2.0
PRODID:-//chikkutakku.com//RDFCal 1.0//EN
X-WR-CALDESC:GoogleカレンダーやiCalendar形式情報を共有シェ
 アしましょう。近所のイベントから全国のイベントま
 で今日のイベント検索やスケジュールを決めるならち
 っくたっく
X-WR-CALNAME:ちっくたっく
X-WR-TIMEZONE:UTC
BEGIN:VEVENT
SUMMARY:3rd/4th grade recorder concert-MPC Upper Gym 
DTSTART;VALUE=DATE-TIME:20260428T230000Z
DTEND;VALUE=DATE-TIME:20260429T010000Z
UID:248011786469
DESCRIPTION:3rd/4th grade recorder concert-MPC Upper Gym 
LOCATION:McWilliams Parish Center Gym 
END:VEVENT
END:VCALENDAR
