BEGIN:VCALENDAR
VERSION:2.0
PRODID:-//chikkutakku.com//RDFCal 1.0//EN
X-WR-CALDESC:GoogleカレンダーやiCalendar形式情報を共有シェ
 アしましょう。近所のイベントから全国のイベントま
 で今日のイベント検索やスケジュールを決めるならち
 っくたっく
X-WR-CALNAME:ちっくたっく
X-WR-TIMEZONE:UTC
BEGIN:VEVENT
SUMMARY:天王寺にZOO〜m in 〜どうぶつ　とっておき話〜
DTSTART;VALUE=DATE-TIME:20260426T043000Z
DTEND;VALUE=DATE-TIME:20260426T050000Z
UID:248433482461
DESCRIPTION:毎月第3\,4日曜に天王寺動物園の飼育スタッフ
 が動物に関するとっておきのお話をします。お話をす
 るスタッフと内容は毎回変わります。【開催場所】TENNO
 JI ZOO MUSEUM 実験・作業室【定員】先着40名当日現場への
 先着といたします。
LOCATION:天王寺動物園、 日本、〒543-0063 大阪府大阪市天
 王寺区茶臼山町６−７４
END:VEVENT
END:VCALENDAR
