BEGIN:VCALENDAR
VERSION:2.0
PRODID:-//chikkutakku.com//RDFCal 1.0//EN
X-WR-CALDESC:GoogleカレンダーやiCalendar形式情報を共有シェ
 アしましょう。近所のイベントから全国のイベントま
 で今日のイベント検索やスケジュールを決めるならち
 っくたっく
X-WR-CALNAME:ちっくたっく
X-WR-TIMEZONE:UTC
BEGIN:VEVENT
SUMMARY:漢字でわかる韓国語
DTSTART;VALUE=DATE:20260426
DTEND;VALUE=DATE:20260427
UID:249170290187
DESCRIPTION:2026-04-27漢字でわかる韓国語細田 誠司博英社
LOCATION:
END:VEVENT
END:VCALENDAR
