BEGIN:VCALENDAR
VERSION:2.0
PRODID:-//chikkutakku.com//RDFCal 1.0//EN
X-WR-CALDESC:GoogleカレンダーやiCalendar形式情報を共有シェ
 アしましょう。近所のイベントから全国のイベントま
 で今日のイベント検索やスケジュールを決めるならち
 っくたっく
X-WR-CALNAME:ちっくたっく
X-WR-TIMEZONE:UTC
BEGIN:VEVENT
SUMMARY:[yukicoder] 0508
DTSTART;VALUE=DATE-TIME:20260508T122000Z
DTEND;VALUE=DATE-TIME:20260508T142000Z
UID:249404686525
DESCRIPTION:https://yukicoder.me/contests/591/table
LOCATION:https://yukicoder.me/contests/591/table
END:VEVENT
END:VCALENDAR
