BEGIN:VCALENDAR
VERSION:2.0
PRODID:-//chikkutakku.com//RDFCal 1.0//EN
X-WR-CALDESC:GoogleカレンダーやiCalendar形式情報を共有シェ
 アしましょう。近所のイベントから全国のイベントま
 で今日のイベント検索やスケジュールを決めるならち
 っくたっく
X-WR-CALNAME:ちっくたっく
X-WR-TIMEZONE:UTC
BEGIN:VEVENT
SUMMARY:【Android 対応】【雑談好き】BAR DRANCKRAZY【初見大
 歓迎】
DTSTART;VALUE=DATE-TIME:20260422T124000Z
DTEND;VALUE=DATE-TIME:20260422T150000Z
UID:249438273115
DESCRIPTION:【イベント主催者】\n　おでぶさん\n【イベン
 ト内容】\n　バーの雰囲気が好き、雑談好き大歓迎！\n
 キャストのオリジナルドリンクを提供いたします！\n一
 名様から団体様まで、初心者でもどなたでも大歓迎！\n
 初めての人と話すのが苦手な方でもキャストと楽しく
 お話しませんか？\n20分ごとにキャストが変わるのでお
 気に入りのキャストを見つけて一緒にチェキを撮って
 ね！\n#BARDRKをつけてツイートすると好きなキャストと
 アフターでお話できます！\n23時から20分間パフォーマ
 ーによるショータイムがございます！\n21時40分から待
 機して頂く事が可能ですが、21時45分には整列待ちを開
 始しますのでお集まりください！\n【イベントジャンル
 】\n　その他交流会\, VR飲み会\, 店舗系イベント\, 音楽
 系イベント\, 初心者向けイベント\, 定期イベント\n【参
 加条件（モデル、人数制限など）】\n　DRANCKRAZYのグル
 ープの概要からルールを事前に確認お願い致します\nDRK
 .7667\nhttps://vrc.group/DRK.7667\n【参加方法】\n　時間になっ
 たらDRANCKRAZYのグループインスタンスにJOIN\nDRK.7667\nhttps:
 //vrc.group/DRK.7667\n【備考】\n　https://x.com/GONTA_KUREKUN
LOCATION:
END:VEVENT
END:VCALENDAR
