BEGIN:VCALENDAR
VERSION:2.0
PRODID:-//chikkutakku.com//RDFCal 1.0//EN
X-WR-CALDESC:GoogleカレンダーやiCalendar形式情報を共有シェ
 アしましょう。近所のイベントから全国のイベントま
 で今日のイベント検索やスケジュールを決めるならち
 っくたっく
X-WR-CALNAME:ちっくたっく
X-WR-TIMEZONE:UTC
BEGIN:VEVENT
SUMMARY:改訂 生活保護ハンドブック 「生活保護手帳」を
 読みとくために
DTSTART;VALUE=DATE:20260520
DTEND;VALUE=DATE:20260521
UID:249529952467
DESCRIPTION:2026-05-21改訂 生活保護ハンドブック 「生活保
 護手帳」を読みとくために池谷秀登日本加除出版
LOCATION:
END:VEVENT
END:VCALENDAR
