BEGIN:VCALENDAR
VERSION:2.0
PRODID:-//chikkutakku.com//RDFCal 1.0//EN
X-WR-CALDESC:GoogleカレンダーやiCalendar形式情報を共有シェ
 アしましょう。近所のイベントから全国のイベントま
 で今日のイベント検索やスケジュールを決めるならち
 っくたっく
X-WR-CALNAME:ちっくたっく
X-WR-TIMEZONE:UTC
BEGIN:VEVENT
SUMMARY:Live Event「Virtual Rendez-Vous」
DTSTART;VALUE=DATE-TIME:20260422T130000Z
DTEND;VALUE=DATE-TIME:20260422T150000Z
UID:249823399357
DESCRIPTION:【イベント主催者】\n　ろぉぉぉ\n【イベント
 内容】\n　小さなライブハウスで行われるオールジャン
 ルライブイベント\n【イベントジャンル】\n　音楽系イ
 ベント\n【参加条件（モデル、人数制限など）】\n　ア
 バターパフォーマンス Poor以下でのご来場をお願いしま
 す\n【参加方法】\n　Group＋で開催。【 https://vrchat.com/hom
 e/group/grp_caa913ad-cb06-411d-acdf-89345023464e 】\n【備考】\n　
LOCATION:
END:VEVENT
END:VCALENDAR
