BEGIN:VCALENDAR
VERSION:2.0
PRODID:-//chikkutakku.com//RDFCal 1.0//EN
X-WR-CALDESC:GoogleカレンダーやiCalendar形式情報を共有シェ
 アしましょう。近所のイベントから全国のイベントま
 で今日のイベント検索やスケジュールを決めるならち
 っくたっく
X-WR-CALNAME:ちっくたっく
X-WR-TIMEZONE:UTC
BEGIN:VEVENT
SUMMARY:プラムちゃんカフェ＆Bar めるぷらむ
DTSTART;VALUE=DATE-TIME:20260505T130000Z
DTEND;VALUE=DATE-TIME:20260505T143000Z
UID:250765749039
DESCRIPTION:【イベント主催者】\n　ないちぃ\n【イベント
 内容】\n　※今回はこどもの日特別回！カフェイベント
 　\n\nキャストはプラムちゃんonly！\n基本 お客様２人、
 キャスト１人\n１ローテ15分を３ローテ行う接客カフェ
 イベントです！\n\nぜひかわいいプラムちゃんの接客を
 お楽しみください！\n【イベントジャンル】\n　店舗系
 イベント\, ロールプレイ\n【参加条件（モデル、人数制
 限など）】\n　イベントからのお願い\n・PC版only\n・ア
 バター容量５０MB未満制限\n・アバターの身長は１６０
 ｃｍまで\n・版権アバターの着用禁止\n・アバターギミ
 ックの使用禁止（ポーズシステムなどの便利系をのぞ
 く）\n・イベント中フレンド申請はNG。\n・公序良俗に
 反する事の禁止\n・各ローテーション内での写真撮影、
 集合写真以外のフライングカメラ禁止\n・動画撮影、配
 信等はイベント通して（アフターを含む）禁止（事前
 承認の上、許可。お問い合わせは公式XのDMまで）\n【参
 加方法】\n　開催時間になったら当グループが立てるグ
 ループorグループ＋インスタンスにジョイン\n【備考】\
 n　
LOCATION:
END:VEVENT
END:VCALENDAR
