BEGIN:VCALENDAR
VERSION:2.0
PRODID:-//chikkutakku.com//RDFCal 1.0//EN
X-WR-CALDESC:GoogleカレンダーやiCalendar形式情報を共有シェ
 アしましょう。近所のイベントから全国のイベントま
 で今日のイベント検索やスケジュールを決めるならち
 っくたっく
X-WR-CALNAME:ちっくたっく
X-WR-TIMEZONE:UTC
BEGIN:VEVENT
SUMMARY:清楚系ギャル倶楽部 Cherry Boy
DTSTART;VALUE=DATE-TIME:20260422T132000Z
DTEND;VALUE=DATE-TIME:20260422T143000Z
UID:251938462406
DESCRIPTION:【イベント主催者】\n　電脳精神体-sorahoshi\n【
 イベント内容】\n　いつもの体制とは違う？！\nお試し
 ローテーション！\n必ず一人とは話せるぜ！やったぜ！
 \n清楚系ギャル達とお話ししよう！\n【イベントジャン
 ル】\n　改変アバター交流会\, その他交流会\, VR飲み会\
 , 店舗系イベント\, ロールプレイ\, 定期イベント\n【参
 加条件（モデル、人数制限など）】\n　５０MBいかない
 くらいの軽いアバターで来てね！\n重い男は嫌われるぞ
 ！\n【参加方法】\n　https://vrc.group/CHERRY.5829に参加して
 、時間いなったら入ってきてね？\nフライング禁止！\n
 【備考】\n　試験的なイベント体制の為に、グダる可能
 性があります。ご了承ください
LOCATION:
END:VEVENT
END:VCALENDAR
