BEGIN:VCALENDAR
VERSION:2.0
PRODID:-//chikkutakku.com//RDFCal 1.0//EN
X-WR-CALDESC:GoogleカレンダーやiCalendar形式情報を共有シェ
 アしましょう。近所のイベントから全国のイベントま
 で今日のイベント検索やスケジュールを決めるならち
 っくたっく
X-WR-CALNAME:ちっくたっく
X-WR-TIMEZONE:UTC
BEGIN:VEVENT
SUMMARY:【Android 対応】📻🎶 Questラジオ体操部　※参加
 は【QUEST.7435】グループに参加 & インスタンスに入る
DTSTART;VALUE=DATE-TIME:20260509T223000Z
DTEND;VALUE=DATE-TIME:20260509T230000Z
UID:251988233876
DESCRIPTION:【イベント主催者】\n　ぴゅあ吉\n【イベント
 内容】\n　Questユーザーも参加できるラジオ体操を毎朝0
 7:30から08:00まで開催中🕺\n【イベントジャンル】\n　定
 期イベント\n【参加条件（モデル、人数制限など）】\n
 　Android (Quest) 対応アバターをご利用ください。\n【参
 加方法】\n　【グループへの参加方法 : VRChat内】\n①グ
 ループメニューを開き、「+ グループを探す」を開く\n
 ②「検索語句を入力」で「quest.7435」と打ち込む\n③Quest
 ラジオ体操部が表示されたら「このグループに参加」
 を押す\n\n【グループへの参加方法 : Webブラウザ】\n①ht
 tps://vrc.group/QUEST.7435 を開く\n②Questラジオ体操部のグル
 ープページが表示されたら、「+ Join Group」を押す\n③グ
 ループのルールが記載されたダイアログが出るので、
 読んで問題なければ、また「+ Join Group」を押す\n【備考
 】\n　【グループ参加後の参加方法】\n①グループ一覧
 からQuestラジオ体操部を選択\n②グループ内のインスタ
 ンスを選択\n③今立っているインスタンスを選択して「
 ワールドに入る」\n\nhttps://x.com/radiotaisoubu
LOCATION:
END:VEVENT
END:VCALENDAR
