BEGIN:VCALENDAR
VERSION:2.0
PRODID:-//chikkutakku.com//RDFCal 1.0//EN
X-WR-CALDESC:GoogleカレンダーやiCalendar形式情報を共有シェ
 アしましょう。近所のイベントから全国のイベントま
 で今日のイベント検索やスケジュールを決めるならち
 っくたっく
X-WR-CALNAME:ちっくたっく
X-WR-TIMEZONE:UTC
BEGIN:VEVENT
SUMMARY:【注】銀河鉄道999 #43 嵐が丘のキラ / #44 ワルキュ
 ーレの空間騎行 前編 / #45 ワルキューレの空間騎行 後
 編 / #46 エルアラメインの歌声 / #47 永久戦斗実験室 前
 編 / #48 永久戦斗実験室 後編 / #49 これからの星
DTSTART;VALUE=DATE-TIME:20260421T220000Z
DTEND;VALUE=DATE-TIME:20260422T013000Z
UID:253046507909
DESCRIPTION: / #43 嵐が丘のキラ / #44 ワルキューレの空間騎
 行 前編 / #45 ワルキューレの空間騎行 後編 / #46 エルア
 ラメインの歌声 / #47 永久戦斗実験室 前編 / #48 永久戦
 斗実験室 後編 / #49 これからの星 / https://abema.tv/channels/8
 0s-anime-1/slots/DgUGz6ApRdpDeP リピート放送は 22:30～ https://abe
 ma.tv/channels/80s-anime-1/slots/Aod7KwiCAEz4uu (無料TS1週間) https://
 prtimes.jp/main/html/rd/p/000003026.000064643.html
LOCATION:なつかしアニメ80's
END:VEVENT
END:VCALENDAR
