BEGIN:VCALENDAR
VERSION:2.0
PRODID:-//chikkutakku.com//RDFCal 1.0//EN
X-WR-CALDESC:GoogleカレンダーやiCalendar形式情報を共有シェ
 アしましょう。近所のイベントから全国のイベントま
 で今日のイベント検索やスケジュールを決めるならち
 っくたっく
X-WR-CALNAME:ちっくたっく
X-WR-TIMEZONE:UTC
BEGIN:VEVENT
SUMMARY:3rd Grade to Project Angel Hugs
DTSTART;VALUE=DATE-TIME:20260513T151500Z
DTEND;VALUE=DATE-TIME:20260513T161500Z
UID:253649881801
DESCRIPTION:3rd Grade to Project Angel Hugs
LOCATION:
END:VEVENT
END:VCALENDAR
