BEGIN:VCALENDAR
VERSION:2.0
PRODID:-//chikkutakku.com//RDFCal 1.0//EN
X-WR-CALDESC:GoogleカレンダーやiCalendar形式情報を共有シェ
 アしましょう。近所のイベントから全国のイベントま
 で今日のイベント検索やスケジュールを決めるならち
 っくたっく
X-WR-CALNAME:ちっくたっく
X-WR-TIMEZONE:UTC
BEGIN:VEVENT
SUMMARY:とある村の奇妙な求人広告
DTSTART;VALUE=DATE:20260419
DTEND;VALUE=DATE:20260420
UID:253651879047
DESCRIPTION:2026-04-20とある村の奇妙な求人広告月影朔アル
 ファポリス
LOCATION:
END:VEVENT
END:VCALENDAR
