BEGIN:VCALENDAR
VERSION:2.0
PRODID:-//chikkutakku.com//RDFCal 1.0//EN
X-WR-CALDESC:GoogleカレンダーやiCalendar形式情報を共有シェ
 アしましょう。近所のイベントから全国のイベントま
 で今日のイベント検索やスケジュールを決めるならち
 っくたっく
X-WR-CALNAME:ちっくたっく
X-WR-TIMEZONE:UTC
BEGIN:VEVENT
SUMMARY:【LIVE】MGC in 札幌
DTSTART;VALUE=DATE:20260425
DTEND;VALUE=DATE:20260426
UID:254352164117
DESCRIPTION:【LIVE】MGC in 札幌
LOCATION:ちえりあ (札幌市生涯学習総合センター)\, 日本
 、〒063-0051 北海道札幌市西区宮の沢１条１丁目１−１
 ０ 札幌市生涯学習総合センター ちえりあ1階
END:VEVENT
END:VCALENDAR
