BEGIN:VCALENDAR
VERSION:2.0
PRODID:-//chikkutakku.com//RDFCal 1.0//EN
X-WR-CALDESC:GoogleカレンダーやiCalendar形式情報を共有シェ
 アしましょう。近所のイベントから全国のイベントま
 で今日のイベント検索やスケジュールを決めるならち
 っくたっく
X-WR-CALNAME:ちっくたっく
X-WR-TIMEZONE:UTC
BEGIN:VEVENT
SUMMARY:パートリッジ
DTSTART;VALUE=DATE:20260513
DTEND;VALUE=DATE:20260514
UID:254553382153
DESCRIPTION:パートリッジ        \n🎵ビートルズ、イ
 ーグルス、ポップス         \n清水仁(bass)ヒロ渡辺
 (gt)      \n小沢勝巳(gt)城間正博(dr)        \nopen19
 :00 start19:30        \nMC4\,000円+tax2オーダー制
LOCATION:
END:VEVENT
END:VCALENDAR
