BEGIN:VCALENDAR
VERSION:2.0
PRODID:-//chikkutakku.com//RDFCal 1.0//EN
X-WR-CALDESC:GoogleカレンダーやiCalendar形式情報を共有シェ
 アしましょう。近所のイベントから全国のイベントま
 で今日のイベント検索やスケジュールを決めるならち
 っくたっく
X-WR-CALNAME:ちっくたっく
X-WR-TIMEZONE:UTC
BEGIN:VEVENT
SUMMARY:Junior Cross Country Event 4 (staggered start). 9am start at Bradb
 ury oval.
DTSTART;VALUE=DATE-TIME:20260523T230000Z
DTEND;VALUE=DATE-TIME:20260524T000000Z
UID:254577277878
DESCRIPTION:Junior Cross Country Event 4 (staggered start). 9am start at B
 radbury oval.
LOCATION:
END:VEVENT
END:VCALENDAR
