BEGIN:VCALENDAR
VERSION:2.0
PRODID:-//chikkutakku.com//RDFCal 1.0//EN
X-WR-CALDESC:GoogleカレンダーやiCalendar形式情報を共有シェ
 アしましょう。近所のイベントから全国のイベントま
 で今日のイベント検索やスケジュールを決めるならち
 っくたっく
X-WR-CALNAME:ちっくたっく
X-WR-TIMEZONE:UTC
BEGIN:VEVENT
SUMMARY:聞いてパッと話す瞬間英作文トレーニング　キク
 サク[音声DL付]
DTSTART;VALUE=DATE:20260421
DTEND;VALUE=DATE:20260422
UID:255042706021
DESCRIPTION:2026-04-22聞いてパッと話す瞬間英作文トレーニ
 ング　キクサク[音声DL付]英語のそーた/石井康毅アルク
LOCATION:
END:VEVENT
END:VCALENDAR
