BEGIN:VCALENDAR
VERSION:2.0
PRODID:-//chikkutakku.com//RDFCal 1.0//EN
X-WR-CALDESC:GoogleカレンダーやiCalendar形式情報を共有シェ
 アしましょう。近所のイベントから全国のイベントま
 で今日のイベント検索やスケジュールを決めるならち
 っくたっく
X-WR-CALNAME:ちっくたっく
X-WR-TIMEZONE:UTC
BEGIN:VEVENT
SUMMARY:CasinoBar Iris Luck vault
DTSTART;VALUE=DATE-TIME:20260424T120000Z
DTEND;VALUE=DATE-TIME:20260424T130000Z
UID:255205183761
DESCRIPTION:【イベント主催者】\n　するめ_\n【イベント内
 容】\n　毎週月・金21:00~22:00に開いているカジノ風のBar
 イベントです。\nスロット、ブラックジャックなどのギ
 ミックやカウンター席での会話を楽しんで頂けます。\n
 Cipを保存するシステムもございますので普段よりも緊
 張感のある勝負をお楽しみいただけます。\n【イベント
 ジャンル】\n　その他交流会\, 店舗系イベント\, 初心者
 向けイベント\, 定期イベント\n【参加条件（モデル、人
 数制限など）】\n　　禁止事項\n・NSFWに該当する行為\n
 ・巨大アバターの使用\n・高負荷のパーティクル\n・視
 界ジャック\n・その他、他の参加者への迷惑になり得る
 行為\n上記等の迷惑行為がイベント側から確認された場
 合、恐れながら今後一切当グループイベントへの参加
 を不可とさせて頂きますのでご了承下さい\n【参加方法
 】\n　CasinoBar Iris Luckのグループ（IRIS.8081）に加入後、
 グループインスタンスにjoin\nhttps://vrc.group/IRIS.8081\n【備
 考】\n　X公式アカウント＠IrisLuck_VRC　　写真用ハッシ
 ュタグ：＃IrisLuckVRC\nhttps://x.com/IrisLuck_VRC \n
LOCATION:
END:VEVENT
END:VCALENDAR
