BEGIN:VCALENDAR
VERSION:2.0
PRODID:-//chikkutakku.com//RDFCal 1.0//EN
X-WR-CALDESC:GoogleカレンダーやiCalendar形式情報を共有シェ
 アしましょう。近所のイベントから全国のイベントま
 で今日のイベント検索やスケジュールを決めるならち
 っくたっく
X-WR-CALNAME:ちっくたっく
X-WR-TIMEZONE:UTC
BEGIN:VEVENT
SUMMARY:伊藤塾 合格セレクション 司法試験・予備試験 短
 答式過去問題集 刑法 2026
DTSTART;VALUE=DATE:20260430
DTEND;VALUE=DATE:20260501
UID:255241447387
DESCRIPTION:2026-05-01伊藤塾 合格セレクション 司法試験・
 予備試験 短答式過去問題集 刑法 2026伊藤 真/伊藤塾日
 本評論社
LOCATION:
END:VEVENT
END:VCALENDAR
