BEGIN:VCALENDAR
VERSION:2.0
PRODID:-//chikkutakku.com//RDFCal 1.0//EN
X-WR-CALDESC:GoogleカレンダーやiCalendar形式情報を共有シェ
 アしましょう。近所のイベントから全国のイベントま
 で今日のイベント検索やスケジュールを決めるならち
 っくたっく
X-WR-CALNAME:ちっくたっく
X-WR-TIMEZONE:UTC
BEGIN:VEVENT
SUMMARY:サーキットフェス「YOIMACHI」〔ヒカシュー〕
DTSTART;VALUE=DATE:20260505
DTEND;VALUE=DATE:20260506
UID:255396746279
DESCRIPTION:#春のYOIMACHI\n出演者?\nヒカシュー\nRAY\nティン
 カーベル初野\n宇宙ネコ子（ふたりセット）\nAQ\n変寺\nN
 aNoMoRaL\nオワリズム弁慶\nピューパ!!\n夕張工業団地\nぼ
 っちぼろまる\nmekakushe\nおやすみホログラム\n箱庭の室
 内楽\nBLUEGOATS\nゲスバンド\nanew\n&#127915\;https://eplus.jp/sf/de
 tail/4497480001-P0030001\n&#127903\;&#65039\;https://livepocket.jp/e/1sjpw
 \n\n【関連/参考ページ】\nhttp://hearts-web.net/plus/ （大塚 He
 arts＋）
LOCATION:大塚 Hearts＋【関東】
END:VEVENT
END:VCALENDAR
