BEGIN:VCALENDAR
VERSION:2.0
PRODID:-//chikkutakku.com//RDFCal 1.0//EN
X-WR-CALDESC:GoogleカレンダーやiCalendar形式情報を共有シェ
 アしましょう。近所のイベントから全国のイベントま
 で今日のイベント検索やスケジュールを決めるならち
 っくたっく
X-WR-CALNAME:ちっくたっく
X-WR-TIMEZONE:UTC
BEGIN:VEVENT
SUMMARY:南佳孝×鈴木茂×杉山清貴 Special Live
DTSTART;VALUE=DATE:20260424
DTEND;VALUE=DATE:20260425
UID:255533072152
DESCRIPTION:open 16:15 / start 17:00\nvo&gt：南佳孝・鈴木茂・杉
 山清貴　bs：宮田岳　ds：坂田学\n￥9\,500　2/14発売\n※
 ぴあ最速先行　1/11（日）12:00〜20（火）23:59\n\n【関連/
 参考ページ】\nhttps://www.capital-village.co.jp/calendar/concert/202
 5122302.html （キャピタルヴィレッジ）
LOCATION:EX THEATER ROPPONGI【関東】
END:VEVENT
END:VCALENDAR
