BEGIN:VCALENDAR
VERSION:2.0
PRODID:-//chikkutakku.com//RDFCal 1.0//EN
X-WR-CALDESC:GoogleカレンダーやiCalendar形式情報を共有シェ
 アしましょう。近所のイベントから全国のイベントま
 で今日のイベント検索やスケジュールを決めるならち
 っくたっく
X-WR-CALNAME:ちっくたっく
X-WR-TIMEZONE:UTC
BEGIN:VEVENT
SUMMARY:キャバクライベント【Elmeira~イルメア~】
DTSTART;VALUE=DATE-TIME:20260430T131000Z
DTEND;VALUE=DATE-TIME:20260430T142500Z
UID:255694559744
DESCRIPTION:【イベント主催者】\n　り り ー\n【イベント
 内容】\n　～泡沫の夜に、恋をして～\n\n女性のみで構
 成された本格キャバクライベント、Elmeiraの営業日です
 。\nここでしか味わえない特別な時間を、どうぞごゆっ
 くりお過ごしください。\n\n◆開催時間\n22˸10～ リクイ
 ン開始\n22˸15～ ご案内\n23˸25～ 営業終了・アフター開
 始\n【イベントジャンル】\n　店舗系イベント\, ロール
 プレイ\, 初心者向けイベント\n【参加条件（モデル、人
 数制限など）】\n　・日本語話者（無言勢可）\n・キャ
 ストへのフレンド申請\n・お客様からキャストへの接触
 ・不快に感じる行動\n・Quest単機不可\n・40MB以下のアバ
 ターでの参加\n・迷惑行為の禁止\n・無許可の動画撮影
 、配信の禁止\n【参加方法】\n　事前に「り り ー」（
 ひらがな&文字間に半角スペース）にフレンド申請\nhttps
 ://vrchat.com/home/user/usr_2a116e07-c22a-4383-b9b7-e44a57f34f7c\n22:10 
 「り り ー」にリクイン （1回まで）\n\n※当選の方には
 15分までに招待をお送りします。\n※17分までにお見え
 になられない場合、別のお客様をご案内させて頂く可
 能性がございます。\n【備考】\n　最新情報は公式X（@VR
 C_Elmeira）にてお知らせしております！\nXタグ #VRC_Elmeira
LOCATION:
END:VEVENT
END:VCALENDAR
