BEGIN:VCALENDAR
VERSION:2.0
PRODID:-//chikkutakku.com//RDFCal 1.0//EN
X-WR-CALDESC:GoogleカレンダーやiCalendar形式情報を共有シェ
 アしましょう。近所のイベントから全国のイベントま
 で今日のイベント検索やスケジュールを決めるならち
 っくたっく
X-WR-CALNAME:ちっくたっく
X-WR-TIMEZONE:UTC
BEGIN:VEVENT
SUMMARY:人外Bar【Null】
DTSTART;VALUE=DATE-TIME:20260422T130000Z
DTEND;VALUE=DATE-TIME:20260422T140000Z
UID:255755658660
DESCRIPTION:【イベント主催者】\n　もかさん\n【イベント
 内容】\n　ここは様々な人ならざる者たちがひっそりと
 営むBar【Null】\n\n２対１Bar形式となります\n【イベント
 ジャンル】\n　\n【参加条件（モデル、人数制限など）
 】\n　・人アバター\n・PCVR、デスクトップ　（単機×）\
 n【参加方法】\n　「もかさん_ev」へフレンド申請後、
 当日22:00にリクイン\n【備考】\n　虫などの表現を含む
 改変があります
LOCATION:
END:VEVENT
END:VCALENDAR
