BEGIN:VCALENDAR
VERSION:2.0
PRODID:-//chikkutakku.com//RDFCal 1.0//EN
X-WR-CALDESC:GoogleカレンダーやiCalendar形式情報を共有シェ
 アしましょう。近所のイベントから全国のイベントま
 で今日のイベント検索やスケジュールを決めるならち
 っくたっく
X-WR-CALNAME:ちっくたっく
X-WR-TIMEZONE:UTC
BEGIN:VEVENT
SUMMARY:淡路島Walker2026-27 ウォーカームック
DTSTART;VALUE=DATE:20260421
DTEND;VALUE=DATE:20260422
UID:255811897181
DESCRIPTION:2026-04-22淡路島Walker2026-27 ウォーカームックKADOK
 AWA
LOCATION:
END:VEVENT
END:VCALENDAR
