BEGIN:VCALENDAR
VERSION:2.0
PRODID:-//chikkutakku.com//RDFCal 1.0//EN
X-WR-CALDESC:GoogleカレンダーやiCalendar形式情報を共有シェ
 アしましょう。近所のイベントから全国のイベントま
 で今日のイベント検索やスケジュールを決めるならち
 っくたっく
X-WR-CALNAME:ちっくたっく
X-WR-TIMEZONE:UTC
BEGIN:VEVENT
SUMMARY:【サブカルDJイベント】RAVEcho（RAVECH.9520）
DTSTART;VALUE=DATE-TIME:20260423T130000Z
DTEND;VALUE=DATE-TIME:20260423T150000Z
UID:256434250826
DESCRIPTION:【イベント主催者】\n　Sun4fu28\n【イベント内
 容】\n　⚡木曜22時の音の遊び場⚡\n出入り自由‼VRC DJ
 イベント\n【RAVEcho】\n📅4/23(木) 22:00〜\n\nタイムテーブ
 ル✨\n22:00〜22:40 きちVRC\n22:40〜23:20 Milixxx\n23:20〜24:00 Yuu_
 Razer\n\n写真撮影&告知タイム後afterDJ🔥\n\n📍VRChat Group+(R
 AVECH.9520)\n　　http://vrc.group/RAVECH.9520\n\nサブカルを中心
 に 🎧オールジャンルでお届けするDJイベント🎧\n踊
 れる人も、聴き専の人も大歓迎！ ぜひ遊びに来てく
 ださい！\n【イベントジャンル】\n　音楽系イベント\n
 【参加条件（モデル、人数制限など）】\n　画面ジャッ
 ク・過度なパーティクル・大きな音の出るアバターな
 ど公序良俗に反す\nるアバターの使用は禁止です。\n【
 参加方法】\n　Group+で開催します！\n【備考】\n　https://
 x.com/RAVEcho2026\n@RAVEcho2026
LOCATION:
END:VEVENT
END:VCALENDAR
