BEGIN:VCALENDAR
VERSION:2.0
PRODID:-//chikkutakku.com//RDFCal 1.0//EN
X-WR-CALDESC:GoogleカレンダーやiCalendar形式情報を共有シェ
 アしましょう。近所のイベントから全国のイベントま
 で今日のイベント検索やスケジュールを決めるならち
 っくたっく
X-WR-CALNAME:ちっくたっく
X-WR-TIMEZONE:UTC
BEGIN:VEVENT
SUMMARY:Sts. Hesychius and Companions\, Martyrs
DTSTART;VALUE=DATE-TIME:20260518T183000Z
DTEND;VALUE=DATE-TIME:20260519T183000Z
UID:257222265484
DESCRIPTION:"at Constantinople in Byzantium\, Hēsychios and other martyrs
 "\n\nBL12150
LOCATION:
END:VEVENT
END:VCALENDAR
