BEGIN:VCALENDAR
VERSION:2.0
PRODID:-//chikkutakku.com//RDFCal 1.0//EN
X-WR-CALDESC:GoogleカレンダーやiCalendar形式情報を共有シェ
 アしましょう。近所のイベントから全国のイベントま
 で今日のイベント検索やスケジュールを決めるならち
 っくたっく
X-WR-CALNAME:ちっくたっく
X-WR-TIMEZONE:UTC
BEGIN:VEVENT
SUMMARY:7th Grade Brunch & Awards
DTSTART;VALUE=DATE-TIME:20260514T150000Z
DTEND;VALUE=DATE-TIME:20260514T170000Z
UID:257638871460
DESCRIPTION:Off Campus\n\n通过 Google Meet 加入：https://meet.google.
 com/wks-chpz-yiu\n\n如需详细了解 Google Meet，请访问：https://s
 upport.google.com/a/users/answer/9282720
LOCATION:
END:VEVENT
END:VCALENDAR
