BEGIN:VCALENDAR
VERSION:2.0
PRODID:-//chikkutakku.com//RDFCal 1.0//EN
X-WR-CALDESC:GoogleカレンダーやiCalendar形式情報を共有シェ
 アしましょう。近所のイベントから全国のイベントま
 で今日のイベント検索やスケジュールを決めるならち
 っくたっく
X-WR-CALNAME:ちっくたっく
X-WR-TIMEZONE:UTC
BEGIN:VEVENT
SUMMARY:毒を貯めない食べかた
DTSTART;VALUE=DATE:20260513
DTEND;VALUE=DATE:20260514
UID:257676559495
DESCRIPTION:2026-05-14毒を貯めない食べかた山田 豊文/山田 
 知世宝島社
LOCATION:
END:VEVENT
END:VCALENDAR
