BEGIN:VCALENDAR
VERSION:2.0
PRODID:-//chikkutakku.com//RDFCal 1.0//EN
X-WR-CALDESC:GoogleカレンダーやiCalendar形式情報を共有シェ
 アしましょう。近所のイベントから全国のイベントま
 で今日のイベント検索やスケジュールを決めるならち
 っくたっく
X-WR-CALNAME:ちっくたっく
X-WR-TIMEZONE:UTC
BEGIN:VEVENT
SUMMARY:福岡【スカラDE IDOL-EX!!!!-】
DTSTART;VALUE=DATE:20260424
DTEND;VALUE=DATE:20260425
UID:257899045238
DESCRIPTION:【スカラDE IDOL-EX!!!!-】 📆4/25(土) 📍福岡市
 ・スカラエスパシオ 🎫前方3000円/一般0円/当日+500円※
 要1D✴️MilkShake(ミルクセーキ)予約特典(前方のみ)：２S
 チェキ券🎫https://t.co/wJzXhaMERk
LOCATION:
END:VEVENT
END:VCALENDAR
