BEGIN:VCALENDAR
VERSION:2.0
PRODID:-//chikkutakku.com//RDFCal 1.0//EN
X-WR-CALDESC:GoogleカレンダーやiCalendar形式情報を共有シェ
 アしましょう。近所のイベントから全国のイベントま
 で今日のイベント検索やスケジュールを決めるならち
 っくたっく
X-WR-CALNAME:ちっくたっく
X-WR-TIMEZONE:UTC
BEGIN:VEVENT
SUMMARY:4/24 社團活動課程(4)(1500-1550)
DTSTART;VALUE=DATE-TIME:20260424T070000Z
DTEND;VALUE=DATE-TIME:20260424T075000Z
UID:257934811827
DESCRIPTION:4/24 社團活動課程(4)(1500-1550)
LOCATION:
END:VEVENT
END:VCALENDAR
