BEGIN:VCALENDAR
VERSION:2.0
PRODID:-//chikkutakku.com//RDFCal 1.0//EN
X-WR-CALDESC:GoogleカレンダーやiCalendar形式情報を共有シェ
 アしましょう。近所のイベントから全国のイベントま
 で今日のイベント検索やスケジュールを決めるならち
 っくたっく
X-WR-CALNAME:ちっくたっく
X-WR-TIMEZONE:UTC
BEGIN:VEVENT
SUMMARY:AFF2e 超・モンスター事典 --奈落の彼方にーー 改
 訂版
DTSTART;VALUE=DATE:20260427
DTEND;VALUE=DATE:20260428
UID:258883267328
DESCRIPTION:2026-04-28AFF2e 超・モンスター事典 --奈落の彼方
 にーー 改訂版アンドリュー・ライト/スティーブ・ジャ
 クソン/イアン・リビングストン/安田 均/こあらだ まり
 グループSNE
LOCATION:
END:VEVENT
END:VCALENDAR
