BEGIN:VCALENDAR
VERSION:2.0
PRODID:-//chikkutakku.com//RDFCal 1.0//EN
X-WR-CALDESC:GoogleカレンダーやiCalendar形式情報を共有シェ
 アしましょう。近所のイベントから全国のイベントま
 で今日のイベント検索やスケジュールを決めるならち
 っくたっく
X-WR-CALNAME:ちっくたっく
X-WR-TIMEZONE:UTC
BEGIN:VEVENT
SUMMARY:ニューエクスプレスプラス リトアニア語［音声DL
 版］
DTSTART;VALUE=DATE:20260513
DTEND;VALUE=DATE:20260514
UID:259328951957
DESCRIPTION:2026-05-14ニューエクスプレスプラス リトアニア
 語［音声DL版］櫻井 映子白水社
LOCATION:
END:VEVENT
END:VCALENDAR
